BEGIN:VCALENDAR
VERSION:2.0
PRODID:-//wp-events-plugin.com//7.2.3.1//EN
TZID:Europe/London
X-WR-TIMEZONE:Europe/London
BEGIN:VEVENT
UID:61@knowleramblers.online
DTSTART;TZID=Europe/London:20250815T173000
DTEND;TZID=Europe/London:20250815T173000
DTSTAMP:20250811T112214Z
URL:https://knowleramblers.online/events/tom-o-the-wood-evening/
SUMMARY:Orange Tree
DESCRIPTION:A short evening walk from the Orange Tree led by Robert
ATTACH;FMTTYPE=image/jpeg:https://knowleramblers.online/wp-content/uploads
 /2025/05/O_TREE-1-636c976e-1920w-2580708140.png
CATEGORIES:Short Evening
END:VEVENT
BEGIN:VTIMEZONE
TZID:Europe/London
X-LIC-LOCATION:Europe/London
BEGIN:DAYLIGHT
DTSTART:20250330T020000
TZOFFSETFROM:+0000
TZOFFSETTO:+0100
TZNAME:BST
END:DAYLIGHT
END:VTIMEZONE
END:VCALENDAR