BEGIN:VCALENDAR
VERSION:2.0
PRODID:-//wp-events-plugin.com//7.2.3.1//EN
TZID:Europe/London
X-WR-TIMEZONE:Europe/London
BEGIN:VEVENT
UID:40@knowleramblers.online
DTSTART;TZID=Europe/London:20250503T091500
DTEND;TZID=Europe/London:20250503T091500
DTSTAMP:20250427T172319Z
URL:https://knowleramblers.online/events/the-lenches/
SUMMARY:The Lenches
DESCRIPTION:A long walk of 7 miles between Church Lench and Rous Lench\, le
 d by Glenys and Jerry
ATTACH;FMTTYPE=image/jpeg:https://knowleramblers.online/wp-content/uploads
 /2025/04/P1080777.jpg
CATEGORIES:Long walks
END:VEVENT
BEGIN:VTIMEZONE
TZID:Europe/London
X-LIC-LOCATION:Europe/London
BEGIN:DAYLIGHT
DTSTART:20250330T020000
TZOFFSETFROM:+0000
TZOFFSETTO:+0100
TZNAME:BST
END:DAYLIGHT
END:VTIMEZONE
END:VCALENDAR