BEGIN:VCALENDAR
VERSION:2.0
PRODID:-//wp-events-plugin.com//7.2.3.1//EN
TZID:Europe/London
X-WR-TIMEZONE:Europe/London
BEGIN:VEVENT
UID:54@knowleramblers.online
DTSTART;TZID=Europe/London:20250702T094500
DTEND;TZID=Europe/London:20250702T094500
DTSTAMP:20250630T083028Z
URL:https://knowleramblers.online/events/short-walk-11/
SUMMARY:Dorridge Walk
DESCRIPTION:A short walk led by Robert from Dorridge
ATTACH;FMTTYPE=image/jpeg:https://knowleramblers.online/wp-content/uploads
 /2025/05/716015_995d59ffbb394e118b750db413821f52mv2-1180108927.jpg
CATEGORIES:Short Walks
END:VEVENT
BEGIN:VTIMEZONE
TZID:Europe/London
X-LIC-LOCATION:Europe/London
BEGIN:DAYLIGHT
DTSTART:20250330T020000
TZOFFSETFROM:+0000
TZOFFSETTO:+0100
TZNAME:BST
END:DAYLIGHT
END:VTIMEZONE
END:VCALENDAR