BEGIN:VCALENDAR
VERSION:2.0
PRODID:-//wp-events-plugin.com//7.2.3.1//EN
TZID:Europe/London
X-WR-TIMEZONE:Europe/London
BEGIN:VEVENT
UID:49@knowleramblers.online
DTSTART;TZID=Europe/London:20250611T163000
DTEND;TZID=Europe/London:20250611T163000
DTSTAMP:20250604T175553Z
URL:https://knowleramblers.online/events/mid-summer-walk-supper/
SUMMARY:Mid-Summer Walk & Supper
DESCRIPTION:Early evening walk and supper at the Fleur de Lys
ATTACH;FMTTYPE=image/jpeg:https://knowleramblers.online/wp-content/uploads
 /2025/05/P1070270.jpg
CATEGORIES:Short Evening
END:VEVENT
BEGIN:VTIMEZONE
TZID:Europe/London
X-LIC-LOCATION:Europe/London
BEGIN:DAYLIGHT
DTSTART:20250330T020000
TZOFFSETFROM:+0000
TZOFFSETTO:+0100
TZNAME:BST
END:DAYLIGHT
END:VTIMEZONE
END:VCALENDAR