BEGIN:VCALENDAR
VERSION:2.0
PRODID:-//wp-events-plugin.com//7.2.3.1//EN
TZID:Europe/London
X-WR-TIMEZONE:Europe/London
BEGIN:VEVENT
UID:32@knowleramblers.online
DTSTART;TZID=Europe/London:20250330T093000
DTEND;TZID=Europe/London:20250330T093000
DTSTAMP:20250327T140313Z
URL:https://knowleramblers.online/events/long-walk-9/
SUMMARY:Lapworth\, Broom Lane to Preston Bagot
DESCRIPTION:A long walk from Broom Lane\, Lapworth led by Adrian 
ATTACH;FMTTYPE=image/jpeg:https://knowleramblers.online/wp-content/uploads
 /2024/12/P1100972-R.jpg
CATEGORIES:Long walks
END:VEVENT
BEGIN:VTIMEZONE
TZID:Europe/London
X-LIC-LOCATION:Europe/London
BEGIN:DAYLIGHT
DTSTART:20250330T020000
TZOFFSETFROM:+0000
TZOFFSETTO:+0100
TZNAME:BST
END:DAYLIGHT
END:VTIMEZONE
END:VCALENDAR