BEGIN:VCALENDAR
VERSION:2.0
PRODID:-//wp-events-plugin.com//7.2.3.1//EN
TZID:Europe/London
X-WR-TIMEZONE:Europe/London
BEGIN:VEVENT
UID:42@knowleramblers.online
DTSTART;TZID=Europe/London:20250524T093000
DTEND;TZID=Europe/London:20250524T093000
DTSTAMP:20250517T140412Z
URL:https://knowleramblers.online/events/long-walk-11/
SUMMARY:Upton House
DESCRIPTION:A 7 mile walk led by Robert from Upton House via Shenington.
ATTACH;FMTTYPE=image/jpeg:https://knowleramblers.online/wp-content/uploads
 /2025/04/P1040744.jpg
CATEGORIES:Long walks
END:VEVENT
BEGIN:VTIMEZONE
TZID:Europe/London
X-LIC-LOCATION:Europe/London
BEGIN:DAYLIGHT
DTSTART:20250330T020000
TZOFFSETFROM:+0000
TZOFFSETTO:+0100
TZNAME:BST
END:DAYLIGHT
END:VTIMEZONE
END:VCALENDAR