BEGIN:VCALENDAR
VERSION:2.0
PRODID:-//wp-events-plugin.com//7.2.3.1//EN
TZID:Europe/London
X-WR-TIMEZONE:Europe/London
BEGIN:VEVENT
UID:74@knowleramblers.online
DTSTART;TZID=Europe/London:20251115T000000
DTEND;TZID=Europe/London:20251115T000000
DTSTAMP:20251108T154251Z
URL:https://knowleramblers.online/events/hatton-the-case-is-altered/
SUMMARY:Hatton - The Case Is Altered
DESCRIPTION:A short walk of 5.5 mile led by Alleen\, details\, TBA
ATTACH;FMTTYPE=image/jpeg:https://knowleramblers.online/wp-content/uploads
 /2024/10/case.jpg
CATEGORIES:Short Walks
END:VEVENT
BEGIN:VTIMEZONE
TZID:Europe/London
X-LIC-LOCATION:Europe/London
BEGIN:STANDARD
DTSTART:20251026T010000
TZOFFSETFROM:+0100
TZOFFSETTO:+0000
TZNAME:GMT
END:STANDARD
END:VTIMEZONE
END:VCALENDAR