BEGIN:VCALENDAR
VERSION:2.0
PRODID:-//wp-events-plugin.com//7.2.3.1//EN
TZID:Europe/London
X-WR-TIMEZONE:Europe/London
BEGIN:VEVENT
UID:33@knowleramblers.online
DTSTART;TZID=Europe/London:20250402T110000
DTEND;TZID=Europe/London:20250402T110000
DTSTAMP:20250402T085211Z
URL:https://knowleramblers.online/events/amble-3/
SUMMARY:Amble
DESCRIPTION:An amble of just under 3 miles from Dorridge Village Hall
ATTACH;FMTTYPE=image/jpeg:https://knowleramblers.online/wp-content/uploads
 /2024/12/570e46f9d407dfdd821a9972dd042dca_2_large.jpg
CATEGORIES:Ambles
END:VEVENT
BEGIN:VTIMEZONE
TZID:Europe/London
X-LIC-LOCATION:Europe/London
BEGIN:DAYLIGHT
DTSTART:20250330T020000
TZOFFSETFROM:+0000
TZOFFSETTO:+0100
TZNAME:BST
END:DAYLIGHT
END:VTIMEZONE
END:VCALENDAR